BEGIN:VCALENDAR
VERSION:2.0
PRODID:-//Werkplaats Overvecht - ECPv6.15.17//NONSGML v1.0//EN
CALSCALE:GREGORIAN
METHOD:PUBLISH
X-WR-CALNAME:Werkplaats Overvecht
X-ORIGINAL-URL:https://werkplaatsovervecht.nl
X-WR-CALDESC:Evenementen voor Werkplaats Overvecht
REFRESH-INTERVAL;VALUE=DURATION:PT1H
X-Robots-Tag:noindex
X-PUBLISHED-TTL:PT1H
BEGIN:VTIMEZONE
TZID:UTC
BEGIN:STANDARD
TZOFFSETFROM:+0000
TZOFFSETTO:+0000
TZNAME:UTC
DTSTART:20200101T000000
END:STANDARD
END:VTIMEZONE
BEGIN:VEVENT
DTSTART;TZID=UTC:20210528T120000
DTEND;TZID=UTC:20210528T170000
DTSTAMP:20260423T045321
CREATED:20210521T092440Z
LAST-MODIFIED:20210521T101318Z
UID:1479-1622203200-1622221200@werkplaatsovervecht.nl
SUMMARY:Participatie Themadreven en TiZadreven
DESCRIPTION:Op 26 en 28 mei gaan we als Werkplaats zijnde de wijk in! Dit doen we rond de Themadreven en TiZadreven. Op deze dagen staat wij van 14:00 uur tot 19:00 uur met een eigen koffiekar op verschillende locaties. U kunt ons in ieder geval verwachten aan de Rio Brancodreef\, St. Maartendreef en de Ankaradreef. Graag willen wij\, onder het genot van een kopje koffie\, met bewoners in gesprek over de wensen en mogelijkheden van deze buurt. Heeft u zin in een lekker kopje koffie en wilt u met ons in gesprek over de buurt\, kom dan vooral bij ons langs!
URL:https://werkplaatsovervecht.nl/evenement/participatie-themadreven-en-tizadreven-2/
END:VEVENT
BEGIN:VEVENT
DTSTART;TZID=UTC:20210526T200000
DTEND;TZID=UTC:20210526T213000
DTSTAMP:20260423T045321
CREATED:20210422T142658Z
LAST-MODIFIED:20210422T142658Z
UID:1449-1622059200-1622064600@werkplaatsovervecht.nl
SUMMARY:Informatiebijeenkomst Werkplaats Overvecht
DESCRIPTION:Ieder kwartaal organiseert de Werkplaats Overvecht een informatiebijeenkomst. Tijdens deze bijeenkomst delen we de status van verschillende projectinitiatieven\, denk bijvoorbeeld aan de Themadreven\, de Ivoordreef\, de Tigrisdreef\, de Zambesidreef\, het gebied tussen de Taagdreef\, de Vader Rijndreef\, de Van Brammendreef en Camera Obscuradreef en het centrum. Uiteraard is er tijdens deze bijeenkomst ook ruimte voor vragen en opmerkingen.  \nVoorlopig is de bijeenkomst nog even online maar zodra het weer kan organiseren we deze offline\, in Overvecht. Iedereen die meer info wilt over de activiteiten van de Werkplaats is welkom om aan te sluiten. Geef je op via de bovenstaande knop.
URL:https://werkplaatsovervecht.nl/evenement/informatiebijeenkomst-werkplaats-overvecht/
END:VEVENT
BEGIN:VEVENT
DTSTART;TZID=UTC:20210526T120000
DTEND;TZID=UTC:20210526T170000
DTSTAMP:20260423T045321
CREATED:20210521T092339Z
LAST-MODIFIED:20210521T092339Z
UID:1477-1622030400-1622048400@werkplaatsovervecht.nl
SUMMARY:Participatie Themadreven en TiZadreven
DESCRIPTION:Op 26 en 28 mei gaan we als Werkplaats zijnde de wijk in! Dit doen we rond de Themadreven en TiZadreven. Op deze dagen staat wij van 14:00 uur tot 19:00 uur met een eigen koffiekar op verschillende locaties. U kunt ons in ieder geval verwachten aan de Rio Brancodreef\, St. Maartendreef en de Ankaradreef. Graag willen wij\, onder het genot van een kopje koffie\, met bewoners in gesprek over de wensen en mogelijkheden van deze buurt. Heeft u zin in een lekker kopje koffie en wilt u met ons in gesprek over de buurt\, kom dan vooral bij ons langs!
URL:https://werkplaatsovervecht.nl/evenement/participatie-themadreven-en-tizadreven/
END:VEVENT
END:VCALENDAR